BEGIN:VCALENDAR
VERSION:2.0
PRODID:spatie/icalendar-generator
DESCRIPTION:Veranstaltungen von INITIATIVE 3 Rosen
X-WR-CALDESC:Veranstaltungen von INITIATIVE 3 Rosen
REFRESH-INTERVAL;VALUE=DURATION:PT1440M
X-PUBLISHED-TTL:PT1440M
BEGIN:VTIMEZONE
TZID:Europe/Berlin
BEGIN:STANDARD
DTSTART:20171029T030000Z
TZOFFSETFROM:+0200
TZOFFSETTO:+0100
END:STANDARD
BEGIN:DAYLIGHT
DTSTART:20180325T020000Z
TZOFFSETFROM:+0100
TZOFFSETTO:+0200
END:DAYLIGHT
END:VTIMEZONE
BEGIN:VTIMEZONE
TZID:UTC
BEGIN:STANDARD
DTSTART:20250729T201034Z
TZOFFSETFROM:+0000
TZOFFSETTO:+0000
END:STANDARD
END:VTIMEZONE
BEGIN:VEVENT
UID:59-19
DTSTAMP:20260425T201034Z
SUMMARY:Waldspaziergang Hambacher Forst
LOCATION:Hambacher Forst Kieswerk Callas  Buir NRW
ORGANIZER;CN=Dagmar:MAILTO:ddiebels@gmail.com
DTSTART;TZID=Europe/Berlin:20180318T113000
DTEND;TZID=Europe/Berlin:20180318T130000
X-ALT-DESC;FMTTYPE=TEXT/HTML:Sonntag\, 18. März\, 11.30 h Waldspaziergang 
 im Hambacher Wald und zum dritten Mal: Die Rote Linie - es ist wieder so w
 eit Rodungsstopp bis Oktober 2018! Noch nie waren wir dem Ziel so nah\, de
 n kleinen Rest des einstmals so stolzen Waldes retten zu können. Nach zwe
 i schlimmen Tagen im November ist kein weiterer Baum&amp;hellip\;
CATEGORIES:General
URL;VALUE=URI:https://3rosen.eu/mc-events/waldspaziergang-hambacher-forst/
METHOD:PUBLISH
END:VEVENT
END:VCALENDAR