BEGIN:VCALENDAR
VERSION:2.0
PRODID:spatie/icalendar-generator
DESCRIPTION:Veranstaltungen von INITIATIVE 3 Rosen
X-WR-CALDESC:Veranstaltungen von INITIATIVE 3 Rosen
REFRESH-INTERVAL;VALUE=DURATION:PT1440M
X-PUBLISHED-TTL:PT1440M
BEGIN:VTIMEZONE
TZID:Europe/Berlin
BEGIN:STANDARD
DTSTART:20221030T030000Z
TZOFFSETFROM:+0200
TZOFFSETTO:+0100
END:STANDARD
BEGIN:DAYLIGHT
DTSTART:20230326T020000Z
TZOFFSETFROM:+0100
TZOFFSETTO:+0200
END:DAYLIGHT
END:VTIMEZONE
BEGIN:VTIMEZONE
TZID:UTC
BEGIN:STANDARD
DTSTART:20250725T115845Z
TZOFFSETFROM:+0000
TZOFFSETTO:+0000
END:STANDARD
END:VTIMEZONE
BEGIN:VEVENT
UID:2138-183
DTSTAMP:20260421T115845Z
SUMMARY:Tihange Abschalt Party
LOCATION:Forum M Buchkremerstraße 1-7  Aachen  52062
ORGANIZER;CN=Herbert Gilles:MAILTO:herbert@3rosen.eu
DTSTART;TZID=Europe/Berlin;VALUE=DATE:20230204
DTEND;TZID=Europe/Berlin;VALUE=DATE:20230205
X-ALT-DESC;FMTTYPE=TEXT/HTML:[wpcdt-countdown id=\"5200\"] Dann soll der be
 lgische Rissereaktor vor unserer Haustür in Tihange endgültig abgeschalt
 et werden! So ist es von der belgischen Regierung beschlossen. Glaubt ihr 
 dran? Oder befürchtet ihr\, dass die Belgier den Streckbetrieb aus Deutsc
 hland importieren? Nach der großen Menschenkette über 90 km von Tihange 
 bis Aachen (2017) und der Übergabe von mehr als&amp;hellip\;
CATEGORIES:Veranstaltung
URL;VALUE=URI:https://3rosen.eu/mc-events/tihange-abschalt-party/
METHOD:PUBLISH
END:VEVENT
END:VCALENDAR