BEGIN:VCALENDAR
VERSION:2.0
PRODID:spatie/icalendar-generator
DESCRIPTION:Veranstaltungen von INITIATIVE 3 Rosen
X-WR-CALDESC:Veranstaltungen von INITIATIVE 3 Rosen
REFRESH-INTERVAL;VALUE=DURATION:PT1440M
X-PUBLISHED-TTL:PT1440M
BEGIN:VTIMEZONE
TZID:Europe/Berlin
BEGIN:DAYLIGHT
DTSTART:20230326T020000Z
TZOFFSETFROM:+0100
TZOFFSETTO:+0200
END:DAYLIGHT
BEGIN:STANDARD
DTSTART:20231029T030000Z
TZOFFSETFROM:+0200
TZOFFSETTO:+0100
END:STANDARD
BEGIN:DAYLIGHT
DTSTART:20240331T020000Z
TZOFFSETFROM:+0100
TZOFFSETTO:+0200
END:DAYLIGHT
END:VTIMEZONE
BEGIN:VTIMEZONE
TZID:UTC
BEGIN:STANDARD
DTSTART:20250725T111559Z
TZOFFSETFROM:+0000
TZOFFSETTO:+0000
END:STANDARD
END:VTIMEZONE
BEGIN:VEVENT
UID:2098-133
DTSTAMP:20260421T111559Z
SUMMARY:offenes Treffen
LOCATION:Geschäftsstelle Drei-Rosen Straße 30  Aachen\, North Rhine-Westp
 halia\, Germany
ORGANIZER;CN=Herbert Gilles:MAILTO:herbert@3rosen.eu
RRULE:FREQ=MONTHLY;BYDAY=3TU;UNTIL=20240102T000000Z
DTSTART;TZID=Europe/Berlin:20231219T193000
DTEND;TZID=Europe/Berlin:20231219T210000
X-ALT-DESC;FMTTYPE=TEXT/HTML:&amp;nbsp\; &amp;nbsp\; &amp;nbsp\;
CATEGORIES:Treffen
URL;VALUE=URI:https://3rosen.eu/mc-events/offenes-treffen-5/?mc_id=2098
METHOD:PUBLISH
END:VEVENT
END:VCALENDAR