BEGIN:VCALENDAR
VERSION:2.0
PRODID:spatie/icalendar-generator
DESCRIPTION:Veranstaltungen von INITIATIVE 3 Rosen
X-WR-CALDESC:Veranstaltungen von INITIATIVE 3 Rosen
REFRESH-INTERVAL;VALUE=DURATION:PT1440M
X-PUBLISHED-TTL:PT1440M
BEGIN:VTIMEZONE
TZID:Europe/Berlin
BEGIN:STANDARD
DTSTART:20181028T030000Z
TZOFFSETFROM:+0200
TZOFFSETTO:+0100
END:STANDARD
BEGIN:DAYLIGHT
DTSTART:20190331T020000Z
TZOFFSETFROM:+0100
TZOFFSETTO:+0200
END:DAYLIGHT
END:VTIMEZONE
BEGIN:VTIMEZONE
TZID:UTC
BEGIN:STANDARD
DTSTART:20250723T120516Z
TZOFFSETFROM:+0000
TZOFFSETTO:+0000
END:STANDARD
END:VTIMEZONE
BEGIN:VEVENT
UID:1140-101
DTSTAMP:20260419T120516Z
SUMMARY:Mittwochswerkstatt: Klimagerechtigkeit\, Vortrag\, Gespräch
LOCATION:Frere Roger Haus Frère-Roger-Str. 8-10   Aachen  52062
ORGANIZER;CN=Herbert Gilles:MAILTO:herbert@3rosen.eu
DTSTART;TZID=Europe/Berlin:20190327T180000
DTEND;TZID=Europe/Berlin:20190327T193000
X-ALT-DESC;FMTTYPE=TEXT/HTML:Der Klimawandel hat schon jetzt gravierende Au
 swirkungen auf die Landwirtschaft und bedroht die Ernährungssicherung arm
 er Bevölkerungsgruppen. Betroffen sind vor allem tropischen Länder\, die
  am wenigsten zum Klimawandel beitragen. Industriestaaten sind als wesentl
 iche Verursacher besonders in der Pflicht\, ihre Emissionen zu senken und 
 die Betroffenen zu unterstützen. Während Klimaschutz für die Verwirklic
 hung vieler Menschenrechte unerlässlich ist\,&amp;hellip\;
CATEGORIES:General
URL;VALUE=URI:https://3rosen.eu/mc-events/mittwochswerkstatt-klimagerechtig
 keit-vortrag-gespraech/
METHOD:PUBLISH
END:VEVENT
END:VCALENDAR