BEGIN:VCALENDAR
VERSION:2.0
PRODID:spatie/icalendar-generator
DESCRIPTION:Veranstaltungen von INITIATIVE 3 Rosen
X-WR-CALDESC:Veranstaltungen von INITIATIVE 3 Rosen
REFRESH-INTERVAL;VALUE=DURATION:PT1440M
X-PUBLISHED-TTL:PT1440M
BEGIN:VTIMEZONE
TZID:Europe/Berlin
BEGIN:STANDARD
DTSTART:20181028T030000Z
TZOFFSETFROM:+0200
TZOFFSETTO:+0100
END:STANDARD
BEGIN:DAYLIGHT
DTSTART:20190331T020000Z
TZOFFSETFROM:+0100
TZOFFSETTO:+0200
END:DAYLIGHT
END:VTIMEZONE
BEGIN:VTIMEZONE
TZID:UTC
BEGIN:STANDARD
DTSTART:20250724T101510Z
TZOFFSETFROM:+0000
TZOFFSETTO:+0000
END:STANDARD
END:VTIMEZONE
BEGIN:VEVENT
UID:1139-100
DTSTAMP:20260420T101510Z
SUMMARY:Auf dem Weg zur klimagerechten Gesellschaft – mit Oliver Krischer
  MdB
LOCATION:Burg Frankenberg Goffartstraße 45   Aachen   52066
ORGANIZER;CN=Herbert Gilles:MAILTO:herbert@3rosen.eu
DTSTART;TZID=Europe/Berlin:20190327T190000
DTEND;TZID=Europe/Berlin:20190327T200000
X-ALT-DESC;FMTTYPE=TEXT/HTML:Vortrag und Diskussion Die Klimakrise ist die 
 Schicksalsfrage der Menschheit im 21. Jahrhundert. Gelingt es uns nicht\, 
 die Erhöhung der globalen Durchschnittstemperatur zu begrenzen\,  wird d
 ie Erde in großen Teilen unbewohnbar werden – mit katastrophalen Folgen
 . ​Um die Klimaerhitzung zu begrenzen\, bedarf es einer wirtschaftlichen
  und gesellschaftlichen Transformation von noch nie da gewesenem Ausmaß. 
 Leider&amp;hellip\;
CATEGORIES:General
URL;VALUE=URI:https://3rosen.eu/mc-events/auf-dem-weg-zur-klimagerechten-ge
 sellschaft-mit-oliver-krischer-mdb/
METHOD:PUBLISH
END:VEVENT
END:VCALENDAR