BEGIN:VCALENDAR
VERSION:2.0
PRODID:spatie/icalendar-generator
DESCRIPTION:Veranstaltungen von INITIATIVE 3 Rosen
X-WR-CALDESC:Veranstaltungen von INITIATIVE 3 Rosen
REFRESH-INTERVAL;VALUE=DURATION:PT1440M
X-PUBLISHED-TTL:PT1440M
BEGIN:VTIMEZONE
TZID:Europe/Berlin
BEGIN:STANDARD
DTSTART:20181028T030000Z
TZOFFSETFROM:+0200
TZOFFSETTO:+0100
END:STANDARD
BEGIN:DAYLIGHT
DTSTART:20190331T020000Z
TZOFFSETFROM:+0100
TZOFFSETTO:+0200
END:DAYLIGHT
END:VTIMEZONE
BEGIN:VTIMEZONE
TZID:UTC
BEGIN:STANDARD
DTSTART:20250724T113821Z
TZOFFSETFROM:+0000
TZOFFSETTO:+0000
END:STANDARD
END:VTIMEZONE
BEGIN:VEVENT
UID:1138-99
DTSTAMP:20260420T113821Z
SUMMARY:Radvorrangroute - Lothringerstraße: Einladung zur Vorstellung Vari
 ante 2a
LOCATION:
ORGANIZER;CN=Herbert Gilles:MAILTO:herbert@3rosen.eu
DTSTART;TZID=Europe/Berlin:20190314T190000
DTEND;TZID=Europe/Berlin:20190314T200000
X-ALT-DESC;FMTTYPE=TEXT/HTML:Donnerstag\, 14.03.2019um 19:00Uhr im Kulturra
 um Raststätte\, Lothringerstraße 23 (Einlass 18:30h) Liebe Unterstützer
  der Rad-Vorrang-Route Brand-Innenstadt\, wie ihr vielleicht bereits aus d
 er lokalen Presse erfahren habt\, plant die Stadt Aachen\, die Lothringers
 traße als Teil der Rad-Vorrang-Route von Eilendorf bzw. Brand zu einer Fa
 hrradstraße umzubauen. Im Februar 2019 wirkten die Verbände und Initiati
 ven „Projektwerkstatt Fahrradfreundliches Brand“\, der&amp;hellip\;
CATEGORIES:General
URL;VALUE=URI:https://3rosen.eu/mc-events/radvorrangroute-lothringerstrasse
 -einladung-zur-vorstellung-variante-2a/
METHOD:PUBLISH
END:VEVENT
END:VCALENDAR