BEGIN:VCALENDAR
VERSION:2.0
PRODID:spatie/icalendar-generator
DESCRIPTION:Veranstaltungen von INITIATIVE 3 Rosen
X-WR-CALDESC:Veranstaltungen von INITIATIVE 3 Rosen
REFRESH-INTERVAL;VALUE=DURATION:PT1440M
X-PUBLISHED-TTL:PT1440M
BEGIN:VTIMEZONE
TZID:Europe/Berlin
BEGIN:STANDARD
DTSTART:20171029T030000Z
TZOFFSETFROM:+0200
TZOFFSETTO:+0100
END:STANDARD
BEGIN:DAYLIGHT
DTSTART:20180325T020000Z
TZOFFSETFROM:+0100
TZOFFSETTO:+0200
END:DAYLIGHT
END:VTIMEZONE
BEGIN:VTIMEZONE
TZID:UTC
BEGIN:STANDARD
DTSTART:20250729T160125Z
TZOFFSETFROM:+0000
TZOFFSETTO:+0000
END:STANDARD
END:VTIMEZONE
BEGIN:VEVENT
UID:89-20
DTSTAMP:20260425T160125Z
SUMMARY:Vortrag Franz Alt zur Energiewende
LOCATION:Frere Roger Haus Frère-Roger-Str. 8-10   Aachen  52062
ORGANIZER;CN=Dagmar:MAILTO:ddiebels@gmail.com
DTSTART;TZID=Europe/Berlin:20180310T200000
DTEND;TZID=Europe/Berlin:20180310T220000
X-ALT-DESC;FMTTYPE=TEXT/HTML:Klimakrise\, Energiekrise\, Flüchtlingskrise 
 – Wie alles zusammenhängt und wie aus Krisen Chancen werden Der Nahostk
 onflikt war schon immer auch ein Kampf ums Öl. Die Alternative heißt „
 Frieden durch die Sonne“. Die Finanzkrise begann 2008 als Lehmann Brothe
 rs zusammenbrach und der Ölpreis einen Allzeit-Höchstand von 147 Dollar 
 pro Barrel erreicht hatte. Die Eurokrise startete 2010 als&amp;hellip\;
CATEGORIES:General
URL;VALUE=URI:https://3rosen.eu/mc-events/vortrag-franz-alt-zur-energiewend
 e/
METHOD:PUBLISH
END:VEVENT
END:VCALENDAR