BEGIN:VCALENDAR
VERSION:2.0
PRODID:spatie/icalendar-generator
DESCRIPTION:Veranstaltungen von INITIATIVE 3 Rosen
X-WR-CALDESC:Veranstaltungen von INITIATIVE 3 Rosen
REFRESH-INTERVAL;VALUE=DURATION:PT1440M
X-PUBLISHED-TTL:PT1440M
BEGIN:VTIMEZONE
TZID:Europe/Berlin
BEGIN:STANDARD
DTSTART:20171029T030000Z
TZOFFSETFROM:+0200
TZOFFSETTO:+0100
END:STANDARD
BEGIN:DAYLIGHT
DTSTART:20180325T020000Z
TZOFFSETFROM:+0100
TZOFFSETTO:+0200
END:DAYLIGHT
BEGIN:STANDARD
DTSTART:20181028T030000Z
TZOFFSETFROM:+0200
TZOFFSETTO:+0100
END:STANDARD
END:VTIMEZONE
BEGIN:VTIMEZONE
TZID:UTC
BEGIN:STANDARD
DTSTART:20250725T003105Z
TZOFFSETFROM:+0000
TZOFFSETTO:+0000
END:STANDARD
END:VTIMEZONE
BEGIN:VEVENT
UID:45-9
DTSTAMP:20260421T003105Z
SUMMARY:Das 32. Aachener Weltfest
LOCATION:Welthaus Aachen An der Schanz 1  Aachen\, North Rhine-Westphalia\,
  Germany NRW 52064
ORGANIZER;CN=Dagmar:MAILTO:ddiebels@gmail.com
DTSTART;TZID=Europe/Berlin:20180610T130000
DTEND;TZID=Europe/Berlin:20180610T200000
X-ALT-DESC;FMTTYPE=TEXT/HTML:SAVE THE DATE!
CATEGORIES:General
URL;VALUE=URI:https://3rosen.eu/mc-events/das-32-aachener-weltfest-2/
METHOD:PUBLISH
END:VEVENT
END:VCALENDAR