BEGIN:VCALENDAR
VERSION:2.0
PRODID:spatie/icalendar-generator
DESCRIPTION:Veranstaltungen von INITIATIVE 3 Rosen
X-WR-CALDESC:Veranstaltungen von INITIATIVE 3 Rosen
REFRESH-INTERVAL;VALUE=DURATION:PT1440M
X-PUBLISHED-TTL:PT1440M
BEGIN:VTIMEZONE
TZID:Europe/Berlin
BEGIN:DAYLIGHT
DTSTART:20180325T020000Z
TZOFFSETFROM:+0100
TZOFFSETTO:+0200
END:DAYLIGHT
BEGIN:STANDARD
DTSTART:20181028T030000Z
TZOFFSETFROM:+0200
TZOFFSETTO:+0100
END:STANDARD
BEGIN:DAYLIGHT
DTSTART:20190331T020000Z
TZOFFSETFROM:+0100
TZOFFSETTO:+0200
END:DAYLIGHT
END:VTIMEZONE
BEGIN:VTIMEZONE
TZID:UTC
BEGIN:STANDARD
DTSTART:20250725T174844Z
TZOFFSETFROM:+0000
TZOFFSETTO:+0000
END:STANDARD
END:VTIMEZONE
BEGIN:VEVENT
UID:334-69
DTSTAMP:20260421T174844Z
SUMMARY:Ende Gelände
LOCATION:Hambacher Forst Kieswerk Callas  Buir NRW
ORGANIZER;CN=Herbert Gilles:MAILTO:herbert@3rosen.eu
DTSTART;TZID=Europe/Berlin;VALUE=DATE:20181025
DTEND;TZID=Europe/Berlin;VALUE=DATE:20181029
X-ALT-DESC;FMTTYPE=TEXT/HTML:Für Fr\, 25. bis So\, 28.10. sind wieder „E
 nde Gelände“ Aktionen in Hambach angekündigt. Hier der Link zum Mobi-V
 ideo. https://www.ende-gelaende.org/de/news/das-ende-gelaende-mobivideo-sp
 read-it-out/ Es wird sogar einen Sonderzug von Prag über Dredsen\, Leipzi
 g und Hannover geben. Eine echt witzige Ankündigung mit Stoiber-O-Ton: ht
 tps://www.ende-gelaende.org/de/news/mit-dem-sonderzug-zum-hambi/
CATEGORIES:General
URL;VALUE=URI:https://3rosen.eu/mc-events/ende-gelaende/
METHOD:PUBLISH
END:VEVENT
END:VCALENDAR