BEGIN:VCALENDAR
VERSION:2.0
PRODID:spatie/icalendar-generator
DESCRIPTION:Veranstaltungen von INITIATIVE 3 Rosen
X-WR-CALDESC:Veranstaltungen von INITIATIVE 3 Rosen
REFRESH-INTERVAL;VALUE=DURATION:PT1440M
X-PUBLISHED-TTL:PT1440M
BEGIN:VTIMEZONE
TZID:Europe/Berlin
BEGIN:STANDARD
DTSTART:20221030T030000Z
TZOFFSETFROM:+0200
TZOFFSETTO:+0100
END:STANDARD
BEGIN:DAYLIGHT
DTSTART:20230326T020000Z
TZOFFSETFROM:+0100
TZOFFSETTO:+0200
END:DAYLIGHT
END:VTIMEZONE
BEGIN:VTIMEZONE
TZID:UTC
BEGIN:STANDARD
DTSTART:20250729T202742Z
TZOFFSETFROM:+0000
TZOFFSETTO:+0000
END:STANDARD
END:VTIMEZONE
BEGIN:VEVENT
UID:2125-182
DTSTAMP:20260425T202742Z
SUMMARY:offenes Treffen
LOCATION:Geschäftsstelle Drei-Rosen Straße 30  Aachen\, North Rhine-Westp
 halia\, Germany
ORGANIZER;CN=Herbert Gilles:MAILTO:herbert@3rosen.eu
RRULE:FREQ=MONTHLY;BYDAY=1TU;UNTIL=20240116T000000Z
DTSTART;TZID=Europe/Berlin;VALUE=DATE:20230103
DTEND;TZID=Europe/Berlin;VALUE=DATE:20230104
X-ALT-DESC;FMTTYPE=TEXT/HTML:
CATEGORIES:Treffen
URL;VALUE=URI:https://3rosen.eu/mc-events/offenes-treffen-4/?mc_id=2125
METHOD:PUBLISH
END:VEVENT
END:VCALENDAR