BEGIN:VCALENDAR
VERSION:2.0
PRODID:spatie/icalendar-generator
DESCRIPTION:Veranstaltungen von INITIATIVE 3 Rosen
X-WR-CALDESC:Veranstaltungen von INITIATIVE 3 Rosen
REFRESH-INTERVAL;VALUE=DURATION:PT1440M
X-PUBLISHED-TTL:PT1440M
BEGIN:VTIMEZONE
TZID:Europe/Berlin
BEGIN:DAYLIGHT
DTSTART:20190331T020000Z
TZOFFSETFROM:+0100
TZOFFSETTO:+0200
END:DAYLIGHT
BEGIN:STANDARD
DTSTART:20191027T030000Z
TZOFFSETFROM:+0200
TZOFFSETTO:+0100
END:STANDARD
BEGIN:DAYLIGHT
DTSTART:20200329T020000Z
TZOFFSETFROM:+0100
TZOFFSETTO:+0200
END:DAYLIGHT
END:VTIMEZONE
BEGIN:VTIMEZONE
TZID:UTC
BEGIN:STANDARD
DTSTART:20250725T115624Z
TZOFFSETFROM:+0000
TZOFFSETTO:+0000
END:STANDARD
END:VTIMEZONE
BEGIN:VEVENT
UID:1216-118
DTSTAMP:20260421T115624Z
SUMMARY:Großer Klimastreik für jung und alt
LOCATION:Elisenbrunnen Friedrich-Wilhelm Platz  Aachen  52064
ORGANIZER;CN=Herbert Gilles:MAILTO:herbert@3rosen.eu
DTSTART;TZID=Europe/Berlin:20191129T120000
DTEND;TZID=Europe/Berlin:20191129T130000
X-ALT-DESC;FMTTYPE=TEXT/HTML:Am Freitag vor der Klimakonferenz in Madrid si
 nd wir alle noch mal aufgerufen auf der Straße klar zu machen\, dass wir 
 ein großes\, schweres Klimapaket wollen und brauchen und nicht das Päckc
 hen\, das die Kanzlerin im Fluggepäck hat. Weitere Infos für Aachen folg
 en.
CATEGORIES:General
URL;VALUE=URI:https://3rosen.eu/mc-events/grosser-klimastreik-fuer-jung-und
 -alt/
METHOD:PUBLISH
END:VEVENT
END:VCALENDAR